BEGIN:VCALENDAR
VERSION:2.0
PRODID:-//Alterna International - ECPv6.15.11//NONSGML v1.0//EN
CALSCALE:GREGORIAN
METHOD:PUBLISH
X-WR-CALNAME:Alterna International
X-ORIGINAL-URL:https://alterna.ocslive.com
X-WR-CALDESC:Events for Alterna International
REFRESH-INTERVAL;VALUE=DURATION:PT1H
X-Robots-Tag:noindex
X-PUBLISHED-TTL:PT1H
BEGIN:VTIMEZONE
TZID:UTC
BEGIN:STANDARD
TZOFFSETFROM:+0000
TZOFFSETTO:+0000
TZNAME:UTC
DTSTART:20240101T000000
END:STANDARD
END:VTIMEZONE
BEGIN:VEVENT
DTSTART;VALUE=DATE:20251016
DTEND;VALUE=DATE:20251017
DTSTAMP:20260420T130417
CREATED:20250928T223035Z
LAST-MODIFIED:20250928T230352Z
UID:421-1760572800-1760659199@alterna.ocslive.com
SUMMARY:Superiorne prodajne veštine  - po licenci Brian Tracy
DESCRIPTION:
URL:https://alterna.ocslive.com/event/superiorne-prodajne-vestine-po-licenci-brian-tracy/
CATEGORIES:DOGAĐAJ
ATTACH;FMTTYPE=image/jpeg:https://alterna.ocslive.com/wp-content/uploads/2025/09/f41a1dc640ddc2aaaec7a9300ecd8f2cf4f07636.jpg
END:VEVENT
END:VCALENDAR